0.5
0
0
-0.5
661400.986028689
4758185.71832465
