0.5
0
0
-0.5
654761.429339215
4751087.24364725
