0.5
0
0
-0.5
678335.616445763
4760925.06194293
