0.5
0
0
-0.5
675236.190421878
4749269.52825992
