0.5
0
0
-0.5
576633.819930591
4738183.83588047
