0.5
0
0
-0.5
580151.633985935
4728969.92108953
