0.5
0
0
-0.5
607381.08746995
4733973.77978216
