0.5
0
0
-0.5
610904.632826447
4727088.5585146
