0.5
0
0
-0.5
620858.731858887
4743456.36412852
