0.5
0
0
-0.5
627974.877031744
4727387.78527083
