0.5
0
0
-0.5
648107.8438793
4743995.63788531
