0.5
0
0
-0.5
658541.013200645
4734972.40070639
