0.5
0
0
-0.5
556397.334690851
4712535.78894639
