0.5
0
0
-0.5
576869.849388909
4717363.82734467
