0.5
0
0
-0.5
580342.936168744
4712776.87281231
