0.5
0
0
-0.5
594057.93328618
4710638.78523632
