0.5
0
0
-0.5
583905.716955824
4701252.08025633
