0.5
0
0
-0.5
580533.669466447
4696584.4725899
