0.5
0
0
-0.5
614744.100999992
4701698.84213457
