0.5
0
0
-0.5
601106.176325983
4696857.15106151
