0.5
0
0
-0.5
614821.274599334
4697072.43382079
