0.5
0
0
-0.5
618250.026994022
4697130.47339705
