0.5
0
0
-0.5
601174.213902025
4692230.84210135
