0.5
0
0
-0.5
638730.503380394
4702140.58619132
