0.5
0
0
-0.5
652386.177541639
4704743.25816987
