0.5
0
0
-0.5
594533.909353865
4675941.29818919
