0.5
0
0
-0.5
618646.459222635
4673998.72359686
