0.5
0
0
-0.5
611952.40504715
4662318.83462
