0.5
0
0
-0.5
615398.187588191
4662375.15661726
