0.5
0
0
-0.5
594754.96812155
4659749.51883648
