1
0
0
-1
640864.304504167
4762451.67148885
