1
0
0
-1
647965.417027674
4748718.26445632
