1
0
0
-1
614000.55872198
4743425.97591607
