1
0
0
-1
614237.037718524
4729545.91500837
