1
0
0
-1
661693.507254677
4744405.11317577
