1
0
0
-1
614472.810826636
4715666.05520325
