1
0
0
-1
634810.564015725
4725298.61437913
