1
0
0
-1
629026.835239199
4669647.38325213
