1
0
0
-1
606665.622275051
4775701.75517912
