1
0
0
-1
599954.724640133
4770968.51569599
