2.5
0
0
-2.5
607086.518959854
4743507.11271218
