2.5
0
0
-2.5
607544.788685711
4715747.31714439
