2.5
0
0
-2.5
649016.673809446
4698038.46398129
