2.5
0
0
-2.5
608605.616753298
4650978.99261897
