2.5
0
0
-2.5
593049.977241005
4771056.21166503
