0.5
0
0
-0.5
579766.876032032
4761357.6336185
