0.5
0
0
-0.5
569624.763855023
4756617.23663465
