0.5
0
0
-0.5
586650.126376904
4754501.35230554
