0.5
0
0
-0.5
576502.144593189
4749750.88051275
