0.5
0
0
-0.5
583335.904230016
4747518.15906116
